BEGIN:VCALENDAR
VERSION:2.0
PRODID:-//wp-events-plugin.com//7.2.3.1//EN
TZID:America/Chicago
X-WR-TIMEZONE:America/Chicago
BEGIN:VEVENT
UID:6583@allpeopleschurchuu.org
DTSTART;VALUE=DATE:20260425
DTEND;VALUE=DATE:20260426
DTSTAMP:20251019T190126Z
URL:https://allpeopleschurchuu.org/events/ntuuc-annual-event/
SUMMARY:NTUUC Annual Event
DESCRIPTION:Sanctuary\, Jaggers Parlor\n\nEvent runs 2pm-7pm\n\nInterest Gr
 oups\, Food
END:VEVENT
END:VCALENDAR