BEGIN:VCALENDAR
VERSION:2.0
PRODID:-//wp-events-plugin.com//7.2.3.1//EN
TZID:America/Chicago
X-WR-TIMEZONE:America/Chicago
BEGIN:VEVENT
UID:5587@allpeopleschurchuu.org
DTSTART:20231210T130000Z
DTEND:20231210T153000Z
DTSTAMP:20231206T195840Z
URL:https://allpeopleschurchuu.org/events/religious-education-event-2-2023
 -12-10/
SUMMARY:Religious Education Event
DESCRIPTION:Religious Education will be having a private event in the Adams
  Room &amp\; Jaggers Parlor.
CATEGORIES:Learning
END:VEVENT
END:VCALENDAR