BEGIN:VCALENDAR
VERSION:2.0
PRODID:-//wp-events-plugin.com//7.2.3.1//EN
TZID:America/Chicago
X-WR-TIMEZONE:America/Chicago
BEGIN:VEVENT
UID:5770@allpeopleschurchuu.org
DTSTART:20240519T130000Z
DTEND:20240519T160000Z
DTSTAMP:20240320T194627Z
URL:https://allpeopleschurchuu.org/events/religious-education-event-6/
SUMMARY:Religious Education Event
DESCRIPTION:RE will have a private event in Adams from 1- 4PM
END:VEVENT
END:VCALENDAR