BEGIN:VCALENDAR
VERSION:2.0
PRODID:-//wp-events-plugin.com//7.2.3.1//EN
TZID:America/Chicago
X-WR-TIMEZONE:America/Chicago
BEGIN:VEVENT
UID:5572@allpeopleschurchuu.org
DTSTART:20231007T120000Z
DTEND:20231007T170000Z
DTSTAMP:20230831T175608Z
URL:https://allpeopleschurchuu.org/events/rental-family-gathering/
SUMMARY:Rental—Family Gathering
DESCRIPTION:Coleman Hall
LOCATION:All Peoples Church UU\, 1959 Sandy Lane\, Fort Worth\, TX\, 76112\
 , United States
GEO:32.749965;-97.198083
X-APPLE-STRUCTURED-LOCATION;VALUE=URI;X-ADDRESS=1959 Sandy Lane\, Fort Wort
 h\, TX\, 76112\, United States;X-APPLE-RADIUS=100;X-TITLE=All Peoples Chur
 ch UU:geo:32.749965,-97.198083
END:VEVENT
END:VCALENDAR