BEGIN:VCALENDAR
VERSION:2.0
PRODID:-//wp-events-plugin.com//7.2.3.1//EN
TZID:America/Chicago
X-WR-TIMEZONE:America/Chicago
BEGIN:VEVENT
UID:5823@allpeopleschurchuu.org
DTSTART;VALUE=DATE:20240427
DTEND;VALUE=DATE:20240428
DTSTAMP:20240328T163104Z
URL:https://allpeopleschurchuu.org/events/rental-public-event/
SUMMARY:Rental—Public Event
DESCRIPTION:Sanctuary
END:VEVENT
END:VCALENDAR