BEGIN:VCALENDAR
VERSION:2.0
PRODID:-//wp-events-plugin.com//7.2.3.1//EN
TZID:America/Chicago
X-WR-TIMEZONE:America/Chicago
BEGIN:VEVENT
UID:5555@allpeopleschurchuu.org
DTSTART:20230417T193000Z
DTEND:20230417T210000Z
DTSTAMP:20230413T002321Z
URL:https://allpeopleschurchuu.org/events/spectrum-chamber-music-concert/
SUMMARY:Spectrum Chamber Music Concert
DESCRIPTION:\n\nA SELECTION OF PETS by Yoni Fogelman\nWinner\, 2023 Spectr
 um Chamber Music Composition Prize\nMonday April 17\, 2023 at 7:30pm\nAll 
 Peoples Church Unitarian Universalist\n1959 Sandy Lane\, Fort Worth\, Texa
 s 76112\nFree Admission—Freewill Donations Accepted\nFree post-concert m
 eet-and-greet reception\n\nPresenting the winner of the second annual Spec
 trum Chamber Music Composition Prize: A Selection of Pets by L.A. compos
 er Yoni Fogelman! The piece\, scored for wind quintet\, was chosen out of 
 many entries from all over the United States and beyond. As a special trea
 t\, Yoni will be at the concert to talk about his piece before it is perfo
 rmed.\n\nAlso on the program\, we continue this season’s theme featuring
  composers of both film and concert scores with perhaps the greatest film 
 composer of all time: The incomparable John Williams. Although in the case
  of Simple Giftshe did not compose the original music (that honor goes to 
 Aaron Copland)\, Williams used his immense talents to create this special 
 arrangement for clarinet\, violin\, cello and piano that was performed at 
 Barack Obama’s second Presidential inauguration.\n\nWe end the concert w
 ith what many feel is among Dmitry Shostakovich’s best quartets: his Str
 ing Quartet No. 3. In fact\, it was a favorite of the composer himself. It
  shows Shostakovich in his full powers as a chamber music composer\, skill
 fully deploying the string quartet to express his utterly distinctive musi
 cal personality.\n\nPROGRAM\n\nAaron Copland (arr. John Williams)—Simple
  Gifts\nGary Whitman\, clarinet\nAlbert Yamamoto\, violin\nLaura Ospina\, 
 cello\nShields-Collins Bray\, piano\n\nYoni Fogelman—A Selection of Pets
 \nPam Adams\, flute\nTim Daniels\, oboe\nIvan Petruzziello\, clarinet\nSam
 uel Watson\, bassoon\nGerald Wood\, horn\n\nDmitry Shostakovich—String Q
 uartet No. 3 in F major\, Op. 73\nAlbert Yamamoto and Marina Dichenko\, v
 iolins\nDan Sigale\, viola\nJason Mooney\, cello
END:VEVENT
END:VCALENDAR